BEGIN:VCALENDAR
VERSION:2.0
PRODID:-//hacksw/handcal//NONSGML v1.0//EN
BEGIN:VEVENT
SUMMARY:Triathlon U14-U16 USSB
UID:5752cbf1-1cfa-48a5-8071-b0ead569cf05
DTSTART:20260613T080000Z
DTEND:20260613T110000Z
LOCATION:Localisation   
CATEGORIES:Sportif
STATUS:
URL;VALUE=URI:https://www.ussbathle53.com/evenements/2026/06/13/triathlon-u14-u16-ussb-2434856
END:VEVENT
END:VCALENDAR
