BEGIN:VCALENDAR
VERSION:2.0
PRODID:-//hacksw/handcal//NONSGML v1.0//EN
BEGIN:VEVENT
SUMMARY:5eme meeting regional USSB
UID:c7cc6e35-ed95-48e6-96a4-312aaf20ca03
DTSTART:20260613T124500Z
DTEND:20260613T171500Z
LOCATION:Localisation   
CATEGORIES:Sportif
STATUS:
URL;VALUE=URI:https://www.ussbathle53.com/evenements/2026/06/13/5eme-meeting-regional-ussb-2434859
END:VEVENT
END:VCALENDAR
